BEGIN:VCALENDAR
VERSION:2.0
PRODID:-//Massimiliano Caldi | Direttore d&#039;orchestra - ECPv6.15.20//NONSGML v1.0//EN
CALSCALE:GREGORIAN
METHOD:PUBLISH
X-WR-CALNAME:Massimiliano Caldi | Direttore d&#039;orchestra
X-ORIGINAL-URL:https://massimilianocaldi.com/en/
X-WR-CALDESC:Events for Massimiliano Caldi | Direttore d&#039;orchestra
REFRESH-INTERVAL;VALUE=DURATION:PT1H
X-Robots-Tag:noindex
X-PUBLISHED-TTL:PT1H
BEGIN:VTIMEZONE
TZID:UTC
BEGIN:STANDARD
TZOFFSETFROM:+0000
TZOFFSETTO:+0000
TZNAME:UTC
DTSTART:20240101T000000
END:STANDARD
END:VTIMEZONE
BEGIN:VEVENT
DTSTART;VALUE=DATE:20251108
DTEND;VALUE=DATE:20251109
DTSTAMP:20260423T164629
CREATED:20251028T141038Z
LAST-MODIFIED:20251028T142528Z
UID:1127-1762560000-1762646399@massimilianocaldi.com
SUMMARY:35th International Competition "City of Porcia" CORNO 2025
DESCRIPTION:35th “City of Porcia” International Horn Competition 2025 \nMassimiliano Caldi\, conductor\ncompetition finalists\, horn\nOrchestra FVG \nHaydn\, Symphony “The Surprise” \nWeber\, Concertino for Horn\nStrauss\, Horn Concerto No. 2
URL:https://massimilianocaldi.com/en/evento/35th-international-competition-city-of-porcia-corno-2025/
LOCATION:Teatro Verdi di Pordenone\, Italy
CATEGORIES:Concerts
ATTACH;FMTTYPE=image/jpeg:https://massimilianocaldi.com/wp-content/uploads/2025/07/Darius-Kulesza-ASMC-dk-1852.jpg
END:VEVENT
BEGIN:VEVENT
DTSTART;VALUE=DATE:20251128
DTEND;VALUE=DATE:20251129
DTSTAMP:20260423T164629
CREATED:20251028T143018Z
LAST-MODIFIED:20251028T143018Z
UID:1137-1764288000-1764374399@massimilianocaldi.com
SUMMARY:Concert with the Philharmonic Orchestra of the Teatro Comunale di Bologna
DESCRIPTION:Massimiliano Caldi\, conductor\nChristian Joseph Saccon\, violin\nElena De Simone\, mezzo soprano\nOrchestra Filarmonica del Teatro Comunale di Bologna \nMozart\, Symphony k19\nMozart\, Concerto No. 5 for violin and orchestra\nMozart\, 3 arias from various operas:\nA woman at the age of fifteen\nBatti batti bel Masetto\nDeh vieni non tardar \nFeaturing a special guest speaker\, Friulian foreign correspondent\, writer and journalist Toni Capuozzo. \n  \nPh Darius Kulesza
URL:https://massimilianocaldi.com/en/evento/concert-with-the-philharmonic-orchestra-of-the-teatro-comunale-di-bologna/
LOCATION:Conegliano
CATEGORIES:Concerts
ATTACH;FMTTYPE=image/jpeg:https://massimilianocaldi.com/wp-content/uploads/2025/07/Darius-Kulesza-ASMC-dk-1608.jpg
END:VEVENT
END:VCALENDAR