BEGIN:VCALENDAR
VERSION:2.0
PRODID:-//Massimiliano Caldi | Direttore d&#039;orchestra - ECPv6.15.20//NONSGML v1.0//EN
CALSCALE:GREGORIAN
METHOD:PUBLISH
X-ORIGINAL-URL:https://massimilianocaldi.com/en/
X-WR-CALDESC:Events for Massimiliano Caldi | Direttore d&#039;orchestra
REFRESH-INTERVAL;VALUE=DURATION:PT1H
X-Robots-Tag:noindex
X-PUBLISHED-TTL:PT1H
BEGIN:VTIMEZONE
TZID:UTC
BEGIN:STANDARD
TZOFFSETFROM:+0000
TZOFFSETTO:+0000
TZNAME:UTC
DTSTART:20240101T000000
END:STANDARD
END:VTIMEZONE
BEGIN:VEVENT
DTSTART;VALUE=DATE:20251231
DTEND;VALUE=DATE:20260102
DTSTAMP:20260423T151733
CREATED:20251028T144528Z
LAST-MODIFIED:20251028T144528Z
UID:1142-1767139200-1767311999@massimilianocaldi.com
SUMMARY:New Year's Concerts with the Baltic F. Chopin Polish Philharmonic in Gdansk
DESCRIPTION:Massimiliano Caldi\, conductor \nGary Guthman\, trumpet \nPolska Filharmonia Bałtycka \nPh Dariusz Kulesza
URL:https://massimilianocaldi.com/en/evento/new-years-concerts-with-the-baltic-f-chopin-polish-philharmonic-in-gdansk/
LOCATION:Polska Filharmonia Bałtycka\, Danzica\, Poland
CATEGORIES:Concerts
ATTACH;FMTTYPE=image/jpeg:https://massimilianocaldi.com/wp-content/uploads/2025/07/Dariusz-Kulesza_Filarmonica-di-Lodz.jpeg
END:VEVENT
END:VCALENDAR