BEGIN:VCALENDAR
VERSION:2.0
PRODID:-//Massimiliano Caldi | Direttore d&#039;orchestra - ECPv6.15.20//NONSGML v1.0//EN
CALSCALE:GREGORIAN
METHOD:PUBLISH
X-WR-CALNAME:Massimiliano Caldi | Direttore d&#039;orchestra
X-ORIGINAL-URL:https://massimilianocaldi.com
X-WR-CALDESC:Eventi per Massimiliano Caldi | Direttore d&#039;orchestra
REFRESH-INTERVAL;VALUE=DURATION:PT1H
X-Robots-Tag:noindex
X-PUBLISHED-TTL:PT1H
BEGIN:VTIMEZONE
TZID:UTC
BEGIN:STANDARD
TZOFFSETFROM:+0000
TZOFFSETTO:+0000
TZNAME:UTC
DTSTART:20240101T000000
END:STANDARD
END:VTIMEZONE
BEGIN:VEVENT
DTSTART;VALUE=DATE:20250927
DTEND;VALUE=DATE:20250928
DTSTAMP:20260422T162005
CREATED:20251028T135212Z
LAST-MODIFIED:20251028T135305Z
UID:1101-1758931200-1759017599@massimilianocaldi.com
SUMMARY:Concerto al Verdi di Pisa con Maurizio Baglini e Roma Tre Orchestra
DESCRIPTION:Massimiliano Caldi\, direttore\nMaurizio Baglini\, pianoforte\nRoma Tre Orchestra \nF. Sebastiani\, Abscence (invocazione per un giorno di pace)\, per soprano e orchestra\nW. A. Mozart\, Concerto per pianoforte n. 27 in si bemolle maggiore K. 595\nW. A. Mozart\, Sinfonia n. 40 in sol minore K. 550
URL:https://massimilianocaldi.com/evento/concerto-al-verdi-di-pisa-con-maurizio-baglini-e-roma-tre-orchestra/
LOCATION:Teatro Verdi di Pisa\, Italy
CATEGORIES:Concerti
ATTACH;FMTTYPE=image/jpeg:https://massimilianocaldi.com/wp-content/uploads/2025/10/caldi-e-baglini.jpg
END:VEVENT
END:VCALENDAR