BEGIN:VCALENDAR
VERSION:2.0
PRODID:-//Massimiliano Caldi | Direttore d&#039;orchestra - ECPv6.15.20//NONSGML v1.0//EN
CALSCALE:GREGORIAN
METHOD:PUBLISH
X-WR-CALNAME:Massimiliano Caldi | Direttore d&#039;orchestra
X-ORIGINAL-URL:https://massimilianocaldi.com
X-WR-CALDESC:Eventi per Massimiliano Caldi | Direttore d&#039;orchestra
REFRESH-INTERVAL;VALUE=DURATION:PT1H
X-Robots-Tag:noindex
X-PUBLISHED-TTL:PT1H
BEGIN:VTIMEZONE
TZID:UTC
BEGIN:STANDARD
TZOFFSETFROM:+0000
TZOFFSETTO:+0000
TZNAME:UTC
DTSTART:20240101T000000
END:STANDARD
END:VTIMEZONE
BEGIN:VEVENT
DTSTART;VALUE=DATE:20251001
DTEND;VALUE=DATE:20251002
DTSTAMP:20260422T143449
CREATED:20251028T135639Z
LAST-MODIFIED:20251028T135639Z
UID:1109-1759276800-1759363199@massimilianocaldi.com
SUMMARY:Concerto a Roma con Maurizio Baglini e Roma Tre Orchestra
DESCRIPTION:Massimiliano Caldi\, direttore\nMaurizio Baglini\, pianoforte\nRoma Tre Orchestra \nF. Sebastiani\, Abscence (invocazione per un giorno di pace)\, per soprano e orchestra\nW. A. Mozart\, Concerto per pianoforte n. 27 in si bemolle maggiore K. 595\nW. A. Mozart\, Sinfonia n. 40 in sol minore K. 550
URL:https://massimilianocaldi.com/evento/concerto-a-roma-con-maurizio-baglini-e-roma-tre-orchestra/
LOCATION:Teatro Palladium\, Italy
CATEGORIES:Concerti
ATTACH;FMTTYPE=image/jpeg:https://massimilianocaldi.com/wp-content/uploads/2025/10/caldi-e-baglini.jpg
END:VEVENT
BEGIN:VEVENT
DTSTART;VALUE=DATE:20251011
DTEND;VALUE=DATE:20251012
DTSTAMP:20260422T143449
CREATED:20251028T140352Z
LAST-MODIFIED:20251028T140352Z
UID:1113-1760140800-1760227199@massimilianocaldi.com
SUMMARY:Prima esecuzione di "Cleopatra" di A. Meacci
DESCRIPTION:Massimiliano Caldi\, direttore\nRoma Tre Orchestra \nAlessandro Meacci\, “Cleopatra”\nOpera in due atti \n  \nFoto di Diana Montini
URL:https://massimilianocaldi.com/evento/prima-esecuzione-di-cleopatra-di-a-meacci/
LOCATION:Catanzaro\, Italy
CATEGORIES:Concerti
ATTACH;FMTTYPE=image/jpeg:https://massimilianocaldi.com/wp-content/uploads/2025/10/cleopatra.jpg
END:VEVENT
BEGIN:VEVENT
DTSTART;VALUE=DATE:20251013
DTEND;VALUE=DATE:20251014
DTSTAMP:20260422T143449
CREATED:20251028T140731Z
LAST-MODIFIED:20251028T140731Z
UID:1120-1760313600-1760399999@massimilianocaldi.com
SUMMARY:"Cleopatra" di A. Meacci al Teatro Palladium di Roma
DESCRIPTION:Massimiliano Caldi\, direttore\nRoma Tre Orchestra \nAlessandro Meacci\, “Cleopatra”\nOpera in due atti \nFoto di Diana Montini
URL:https://massimilianocaldi.com/evento/cleopatra-di-a-meacci-al-teatro-palladium-di-roma/
LOCATION:Teatro Palladium\, Italy
CATEGORIES:Concerti
ATTACH;FMTTYPE=image/jpeg:https://massimilianocaldi.com/wp-content/uploads/2025/10/cleopatra.jpg
END:VEVENT
BEGIN:VEVENT
DTSTART;VALUE=DATE:20251030
DTEND;VALUE=DATE:20251031
DTSTAMP:20260422T143449
CREATED:20251028T142000Z
LAST-MODIFIED:20251028T142000Z
UID:1128-1761782400-1761868799@massimilianocaldi.com
SUMMARY:Terzo Concerto del Conservatorio Nino Rota di Monopoli
DESCRIPTION:Terzo Concerto del Conservatorio Nino Rota di Monopoli \nMassimiliano Caldi\, direttore \nOrchestra e studenti del Conservatorio Nino Rota \nMusiche di Kachaturian\, Liszt\, Emerson \n  \nPh Peter Banasik
URL:https://massimilianocaldi.com/evento/terzo-concerto-del-conservatorio-nino-rota-di-monopoli/
LOCATION:Cisternino
CATEGORIES:Concerti
ATTACH;FMTTYPE=image/jpeg:https://massimilianocaldi.com/wp-content/uploads/2025/07/Peter-Banasik-Sinfonia-Iuventus_2.jpg
END:VEVENT
END:VCALENDAR