BEGIN:VCALENDAR
VERSION:2.0
PRODID:-//Massimiliano Caldi | Direttore d&#039;orchestra - ECPv6.15.18//NONSGML v1.0//EN
CALSCALE:GREGORIAN
METHOD:PUBLISH
X-WR-CALNAME:Massimiliano Caldi | Direttore d&#039;orchestra
X-ORIGINAL-URL:https://massimilianocaldi.com
X-WR-CALDESC:Eventi per Massimiliano Caldi | Direttore d&#039;orchestra
REFRESH-INTERVAL;VALUE=DURATION:PT1H
X-Robots-Tag:noindex
X-PUBLISHED-TTL:PT1H
BEGIN:VTIMEZONE
TZID:UTC
BEGIN:STANDARD
TZOFFSETFROM:+0000
TZOFFSETTO:+0000
TZNAME:UTC
DTSTART:20240101T000000
END:STANDARD
END:VTIMEZONE
BEGIN:VEVENT
DTSTART;VALUE=DATE:20251231
DTEND;VALUE=DATE:20260102
DTSTAMP:20260422T094628
CREATED:20251028T144528Z
LAST-MODIFIED:20251028T144528Z
UID:1138-1767139200-1767311999@massimilianocaldi.com
SUMMARY:Concerti di Capodanno con la Filarmonica Polacca Baltic F. Chopin di Danzica
DESCRIPTION:Massimiliano Caldi\, direttore \nGary Guthman\, tromba \nPolska Filharmonia Bałtycka \n  \nPh Dariusz Kulesza
URL:https://massimilianocaldi.com/evento/concerti-di-capodanno-con-la-filarmonica-polacca-baltic-f-chopin-di-danzica/
LOCATION:Polska Filharmonia Bałtycka\, Danzica\, Poland
CATEGORIES:Concerti
ATTACH;FMTTYPE=image/jpeg:https://massimilianocaldi.com/wp-content/uploads/2025/07/Dariusz-Kulesza_Filarmonica-di-Lodz.jpeg
END:VEVENT
BEGIN:VEVENT
DTSTART;VALUE=DATE:20260116
DTEND;VALUE=DATE:20260118
DTSTAMP:20260422T094628
CREATED:20260120T150140Z
LAST-MODIFIED:20260120T150255Z
UID:1184-1768521600-1768694399@massimilianocaldi.com
SUMMARY:Concerti con la Filharmonia Koszalińska
DESCRIPTION:Concerti 16 e 17 gennaio 2026\, Koszalin \nMassimiliano Caldi\, direttore \nFilharmonia Koszalińska \nJohann Strauss II \n“Die Fledermaus”\, Ouverture \nValzer “Storielle del bosco viennese” op. 325 \nValzer “Laguna” dall’operetta “Una notte a Venezia” op. 411 \nValzer d’amore op. 114 \nValzer “Sul bel Danubio Blu” \nAnnen polka op. 117 \nPerpetuum mobile op. 257 \nPolka “Tuoni e fulmini” op. 324 \nPolka “A Cuor leggero” op. 319 \nBanditen-Galopp op. 378 \nJosef Strauss\, valzer “Musica delle sfere” op. 235 \nJohann Strauss I\, Radetzky March op. 228
URL:https://massimilianocaldi.com/evento/concerti-con-la-filharmonia-koszalinska/
LOCATION:Koszalin\, Poland
CATEGORIES:Concerti
ATTACH;FMTTYPE=image/jpeg:https://massimilianocaldi.com/wp-content/uploads/2025/07/Peter-Banasik-Sinfonia-Iuventus_2.jpg
END:VEVENT
END:VCALENDAR