BEGIN:VCALENDAR
VERSION:2.0
PRODID:-//Massimiliano Caldi | Direttore d&#039;orchestra - ECPv6.15.18//NONSGML v1.0//EN
CALSCALE:GREGORIAN
METHOD:PUBLISH
X-WR-CALNAME:Massimiliano Caldi | Direttore d&#039;orchestra
X-ORIGINAL-URL:https://massimilianocaldi.com
X-WR-CALDESC:Eventi per Massimiliano Caldi | Direttore d&#039;orchestra
REFRESH-INTERVAL;VALUE=DURATION:PT1H
X-Robots-Tag:noindex
X-PUBLISHED-TTL:PT1H
BEGIN:VTIMEZONE
TZID:UTC
BEGIN:STANDARD
TZOFFSETFROM:+0000
TZOFFSETTO:+0000
TZNAME:UTC
DTSTART:20250101T000000
END:STANDARD
END:VTIMEZONE
BEGIN:VEVENT
DTSTART;VALUE=DATE:20260225
DTEND;VALUE=DATE:20260226
DTSTAMP:20260422T082831
CREATED:20260120T150502Z
LAST-MODIFIED:20260120T150502Z
UID:1187-1771977600-1772063999@massimilianocaldi.com
SUMMARY:Concerto a Varsavia
DESCRIPTION:Concerto 25 febbraio 2026\, Varsavia \nMassimiliano Caldi\, direttore \nKrzysztof Jakowicz\, violino \nOrchestra UMFC di Varsavia \n  \nWitold Lutosławski\, Łańcuch II  \nBenjamin Britten\, Guida all’Orchestra per Giovani \nBenjamin Britten\, 4 Interludi Marini dall’opera Peter Grimes\, Op. 33a
URL:https://massimilianocaldi.com/evento/concerto-a-varsavia/
LOCATION:Varsavia\, Poland
CATEGORIES:Concerti
ATTACH;FMTTYPE=image/jpeg:https://massimilianocaldi.com/wp-content/uploads/2025/05/Massimiliano-Caldi-Tour-Roma3-2@DianaMontini.jpeg
END:VEVENT
END:VCALENDAR