BEGIN:VCALENDAR
VERSION:2.0
PRODID:-//Massimiliano Caldi | Direttore d&#039;orchestra - ECPv6.15.18//NONSGML v1.0//EN
CALSCALE:GREGORIAN
METHOD:PUBLISH
X-ORIGINAL-URL:https://massimilianocaldi.com
X-WR-CALDESC:Eventi per Massimiliano Caldi | Direttore d&#039;orchestra
REFRESH-INTERVAL;VALUE=DURATION:PT1H
X-Robots-Tag:noindex
X-PUBLISHED-TTL:PT1H
BEGIN:VTIMEZONE
TZID:UTC
BEGIN:STANDARD
TZOFFSETFROM:+0000
TZOFFSETTO:+0000
TZNAME:UTC
DTSTART:20240101T000000
END:STANDARD
END:VTIMEZONE
BEGIN:VEVENT
DTSTART;VALUE=DATE:20250901
DTEND;VALUE=DATE:20250906
DTSTAMP:20260420T124343
CREATED:20250625T210106Z
LAST-MODIFIED:20251031T104930Z
UID:520-1756684800-1757116799@massimilianocaldi.com
SUMMARY:Masterclass di esercitazioni orchestrali e direzione d'orchestra con Massimiliano Caldi a Cluj-Napoca
DESCRIPTION:Masterclass di esercitazioni orchestrali e di direzione d’orchestra organizzata dall’Accademia Nazionale di Musica Gheorghe Dima e dal Collegio Musicale “Sigismund Toduça” di Cluj-Napoca\, in Romania. \nIl corso si svolge da lunedì 1 a venerdì 5 settembre 2025\, le esercitazioni si svolgeranno sulla Sinfonia n.1 di Beethoven e l’Ouverture “La Clemenza di Tito” di Mozart.\nIl corso si concluderà con un concerto finale degli allievi partecipanti.
URL:https://massimilianocaldi.com/evento/masterclass-di-direzione-dorchestra-con-il-maestro-massimiliano-caldi/
CATEGORIES:Masterclass
ATTACH;FMTTYPE=image/jpeg:https://massimilianocaldi.com/wp-content/uploads/2025/05/Massimiliano-Caldi-Live-Concert-3.jpg
END:VEVENT
END:VCALENDAR